BEGIN:VCALENDAR
VERSION:2.0
PRODID:-//Purkersdorf Online//NONSGML V1.0//DE
BEGIN:VEVENT
UID:JuTf/bSZd5Eo
DTSTAMP:20260424T162045
DTSTART:20260501T103000
DTEND:20260501T150000
LAST-MODIFIED:20260424T131254
DESCRIPTION:Maibaumübergabe der Freiwilligen Feuerwehr Purkersdorf\r\n\
 r\nAm 1. Mai 2026 ist es wieder soweit!\r\nDie Freiwillige Feuerwehr Pur
 kersdorf lädt herzlich zur traditionellen Maibaum-Übergabe am Hauptpla
 tz Purkersdorf ein.\r\n\r\nStart: 10:30 Uhr\r\nOrt: Hauptplatz Purkersdo
 rf\r\n\r\nFreut euch auf ein abwechslungsreiches Programm für Groß & K
 lein:\r\n- Maibaum-Übergabe\r\n- Fahrzeugsegnung\r\n- Leistungsschau de
 r Feuerwehr\r\n\r\nRahmenprogramm:\r\n\r\n    Fahrten mit dem Feuerwehra
 uto\r\n    Kistenklettern\r\n    Hüpfburg\r\n    Drehleiter fahren\r\n\
 r\nund vieles mehr!\r\n\r\nKommt vorbei\, erlebt die Feuerwehr hautnah u
 nd verbringt einen gemütlichen Feiertag mit uns!\r\n\r\nDie Freiwillige
  Feuerwehr Purkersdorf freut sich auf euren Besuch!
 
LOCATION:Hauptplatz
URL:https://www.ff-purkersdorf.at/event/fahrzeugsegnungen-und-leistungsschau-der-freiwilligen-feuerwehr-purkersdorf-mit-maibaumuebergabe/
SUMMARY:Leistungsschau der FF Purkersdorf
END:VEVENT
END:VCALENDAR
