BEGIN:VCALENDAR
VERSION:2.0
PRODID:-//Purkersdorf Online//NONSGML V1.0//DE
BEGIN:VEVENT
UID:15650@puon.at
DTSTAMP:20260423T080458
DTSTART:20260505T200000
DTEND:20260505T220000
LAST-MODIFIED:20260422T163551
DESCRIPTION:Herzliche Einladung zur Lesung am 5. Mai 26 um 20 Uhr\r\n\r\
 nNorbert Gstrein liest aus seinem Neuen Buch "Im ersten Licht".\r\nWir f
 reuen uns über euren Besuch!
 
LOCATION:Die Bühne
SUMMARY:Lesung Norbert Gstrein
END:VEVENT
END:VCALENDAR
