BEGIN:VCALENDAR
VERSION:2.0
PRODID:-//Purkersdorf Online//NONSGML V1.0//DE
BEGIN:VEVENT
UID:15624@puon.at
DTSTAMP:20260425T162851
DTSTART:20260426T070000
DTEND:20260426T130000
LAST-MODIFIED:20260228T100458
DESCRIPTION:Der Flohmarkt findet jeden letzten Sonntag im Monat von Mär
 z bis Oktober in Gablitz\, Adresse Linzerstraße 1\, Friedrich-Lintner-P
 latz (BILLA Parkplatz) in der Zeit von 7-13 Uhr statt. 
 
LOCATION:Gablitz, Linzerstraße 1
URL:https://flohmarkt-gablitz.at/
SUMMARY:Flohmarkt Gablitz
END:VEVENT
END:VCALENDAR
