BEGIN:VCALENDAR
VERSION:2.0
PRODID:-//Purkersdorf Online//NONSGML V1.0//DE
BEGIN:VEVENT
UID:15580@puon.at
DTSTAMP:20260425T162851
DTSTART:20260427
DTEND:20260427T235959
LAST-MODIFIED:20251217T184216
LOCATION:Purkersdorf
SUMMARY:Biomüll
END:VEVENT
END:VCALENDAR
