BEGIN:VCALENDAR
VERSION:2.0
PRODID:-//Purkersdorf Online//NONSGML V1.0//DE
BEGIN:VEVENT
UID:RFCALITEM27dec418-f622-6903-517d-7551b66cea5b20250517T130000Z
DTSTAMP:20260424T155302
DTSTART:20250517T150000
DTEND:20250517T160000
LAST-MODIFIED:20250517T150000
DESCRIPTION:Agathe reist heute mit einem Musikkoffer mit Rädern.<br>Begl
 eitet wird sie dabei von vier Musikern und traditioneller amerikanischer
  Volksmusik.Mit dabei ist auch â€¦ Pst! Das wird noch nicht verraten.Wir
  werden uns wieder wundern\, was sich heute im Musikkoffer befindet.Vom 
 sehnsüchtigen Wunsch nach Freundschaften.
 
LOCATION:Bildungszentrum Purkersdorf, Schwarzhubergasse 5 3002 Purkersdorf
SUMMARY:Agathes Musikkoffer: Tanzgefiedel
END:VEVENT
END:VCALENDAR
