BEGIN:VCALENDAR
VERSION:2.0
PRODID:-//Purkersdorf Online//NONSGML V1.0//DE
BEGIN:VEVENT
UID:RFCALITEM38c19f72-018b-d5ca-2722-33548bb9216420250510T080000Z
DTSTAMP:20260422T105703
DTSTART:20250510T100000
DTEND:20250510T120000
LAST-MODIFIED:20250510T100000
DESCRIPTION:Save the date! Am 10. Mai 2025 ist wieder â€žGratis Comic Ta
 gâ€œ und 1.247 (!!) Büchereien\, Bibliotheken\, Buch- und Comic-Handlung
 en in Deutschland\, Österreich\, Luxemburg und der Schweiz machen mit!Vo
 n 10:00 bis 12:00 könnt ihr euch auch bei uns in der Stadtbibliothek fol
 gende Comics abholen:https://gratiscomictag.de/comics/Bitte einen Auswei
 s mitnehmen\, in dem das Geburtsdatum ersichtlich ist!Abgabe: Max.<br>3 
 Stück pro Person!
 
LOCATION:Bildungszentrum Purkersdorf, Schwarzhubergasse 5 3002 Purkersdorf
SUMMARY:Gratis Comic Tag 2025
END:VEVENT
END:VCALENDAR
