BEGIN:VCALENDAR
VERSION:2.0
PRODID:-//Purkersdorf Online//NONSGML V1.0//DE
BEGIN:VEVENT
UID:RFCALITEM2325bdc6-ed96-00eb-6587-3335ecbcbe8b20250509T140000Z
DTSTAMP:20260422T090359
DTSTART:20250509T160000
DTEND:20250509T180000
LAST-MODIFIED:20250509T160000
DESCRIPTION:Pilze und Menschen teilen eine lange gemeinsame Geschichte v
 on Nahrung und Heilung\, Spiritualität\, Wachsen und Vergehen.<br>Der Fo
 kus dieser Wanderung liegt einerseits auf der Lebensweise und dem ökolog
 ischen Stellenwert der Pilze.<br>Denn darin begründet sich der zweite Fo
 kus: der Nähr- und Heilwert der Pilze.<br>Als Ernährungswissenschafterin
  bietet Mag.<br>Fischer Vitalpilz-Beratung an und gibt auf der Wanderung
  zahlreiche Einblicke in die Welt der Pilze als Nahrungsergänzung.<br>Sa
 mmeltipps\, Koch- und Heilmittelrezepte zum Thema findet man außerdem in
  ihrem Buch „Heimische Heil- und Vitalpilze“\, das bei der Führung erhäl
 tlich ist.<br>Die Wanderung findet bei fast jedem Wetter statt.<br>Bei S
 tarkregen oder Sturm werden alle Angemeldeten rechtzeitig telefonisch in
 formiert.<br> Eine verbindliche Anmeldung erfolgt über die VHS Purkersdo
 rf.<br>VHS-Kursnummer für Mai: 7003\; (für Okt.<br>- Nr.<br>folgt) Der g
 enaue Treffpunkt wird bei der Anmeldung bekanntgegeben.<br> Mindestteiln
 ehmer:innen: 5 Personen Leitung: Gerit Fischer (Naturpark Kooperationspa
 rtnerin)
 
LOCATION:VHS & Naturpark Purkersdorf, 3002 Purkersdorf
SUMMARY:Heilpilze und Speisekräuter - eine Wanderung
END:VEVENT
END:VCALENDAR
