BEGIN:VCALENDAR
VERSION:2.0
PRODID:-//Purkersdorf Online//NONSGML V1.0//DE
BEGIN:VEVENT
UID:15427@puon.at
DTSTAMP:20260424T233851
DTSTART:20250522T190000
DTEND:20250522T210000
LAST-MODIFIED:20250519T143002
DESCRIPTION:Zeitreise: Purkersdorf\r\ngestern - heute - morgen\r\n\r\nDr
 . Christian Matzka und Gäste präsentieren den Wienfluss.\r\n\r\nEintri
 tt frei!\r\nKeine Anmeldung nötig!
 
LOCATION:Bildungszentrum
SUMMARY:Zeitreise: Der Wienfluss
END:VEVENT
END:VCALENDAR
