BEGIN:VCALENDAR
VERSION:2.0
PRODID:-//Purkersdorf Online//NONSGML V1.0//DE
BEGIN:VEVENT
UID:15425@puon.at
DTSTAMP:20260421T110637
DTSTART:20250427T070000
DTEND:20250427T130000
LAST-MODIFIED:20250425T122257
DESCRIPTION:Der Flohmarkt findet jeden letzten Sonntag von März bis Okt
 ober statt. Besuchen Sie uns in Gablitz auf dem Friedrich-Lintner-Platz 
 (BILLA Parkplatz) in der Linzerstraße 1.
 
LOCATION:Gablitz, Linzerstraße 1
URL:https://flohmarkt-gablitz.at/http://
SUMMARY:Flohmarkt Gablitz
END:VEVENT
END:VCALENDAR
