BEGIN:VCALENDAR
VERSION:2.0
PRODID:-//Purkersdorf Online//NONSGML V1.0//DE
BEGIN:VEVENT
UID:15419@puon.at
DTSTAMP:20260424T233852
DTSTART:20250522T193000
DTEND:20250522T203000
LAST-MODIFIED:20250323T140932
DESCRIPTION:Foto: Â© Ingo Pertramer\r\n\r\nNa\, alles gut? Ja\, alles gu
 t. Echt jetzt? Wann\, bitte\, wurde „alles gut“ zu einer tĂ¤glich strapa
 zierten BeschwĂ¶rungsformel? Wahrscheinlich irgendwann zwischen dem Klop
 apierhamstern\, dem Influencer-Wahnsinn und all den anderen weltweiten K
 atastrophen. Aber\, fun fact: Es ist nicht alles gut!\r\n\r\nSo. Und jet
 zt die gute Nachricht: Christoph & Lollo bringen ein neues Album raus! Z
 wĂ¶lf neue Lieder ĂĽber Politik\, Kaffee\, Hunde\, Instagrammer und verl
 etzte GefĂĽhle. Hier werden alle wichtigen Fragen beantwortet. Wo sind d
 ie HĂ¤nde? Christoph & Lollo wissen sogar das. Ă–sterreichs odd couple d
 es satirischen Liedguts vereint die Energie des Rock’n’Roll und den DIY-
 Gedanken von Indie-Punk mit sarkastischer SchĂ¤rfe. Damit haben Christop
 h & Lollo die adĂ¤quate Methode gefunden\, der absurden Gegenwart etwas 
 entgegenzusetzen. Warum? Weil sie es kĂ¶nnen. Und sonst macht’s ja niema
 nd. Also: alles gut.\r\n\r\nJetzt auf Vinyl\, CD\, digital und auf Tour.
 \r\n\r\n„Wir haben unser neues Album im Wienerwald aufgenommen\, von Han
 ibal Scheutz produzieren und von Alex Tomann mischen lassen. Wir haben d
 ie originale Karl-Heinz-Quetschn eingesetzt\, lustige ChĂ¶re gesungen un
 d Reggae gemacht. Wir singen ĂĽber Ekzeme\, Kaffee\, Hundekot und Influe
 ncer. Eigentlich kann kaum etwas schiefgehen.“ (Christoph & Lollo)\r\n\r
 \nFreie Platzwahl! Das bedeutet\, dass Sie mit Ihrem Ticket entsprechend
  den Ă¶rtlichen Gegebenheiten Ihren Platz frei auswĂ¤hlen kĂ¶nnen. Es ka
 nn sich dabei um SitzplĂ¤tze\, StehplĂ¤tze oder eine Teilbestuhlung ohne
  Sitzplatzanspruch handeln.
 
LOCATION:Kulturverein "Die BĂĽhne"
URL:https://www.die-buehne-purkersdorf.at/programm/
SUMMARY:Christoph & Lollo „alles gut“
END:VEVENT
END:VCALENDAR
