BEGIN:VCALENDAR
VERSION:2.0
PRODID:-//Purkersdorf Online//NONSGML V1.0//DE
BEGIN:VEVENT
UID:15418@puon.at
DTSTAMP:20260424T193030
DTSTART:20250519T193000
DTEND:20250519T203000
LAST-MODIFIED:20250323T135437
DESCRIPTION:Foto: Â© zVg Braun\r\n\r\nIm Rahmen von "come on"\r\n\r\nVoi
 ces for Women\, initiiert von Nathalie Braun\, setzt mit einem einzigart
 igen Benefizkonzert ein kraftvolles Zeichen fÃ¼r die Gleichstellung der 
 Geschlechter und die FÃ¶rderung der Bildung fÃ¼r Frauen und MÃ¤dchen. Ze
 hn junge Talente prÃ¤sentieren bekannte Lieder\, begleitet von Sergio Da
 mian am Klavier\, sowohl als Gruppe als auch in Solo-Auftritten. Ihre Mu
 sik verbindet sich mit einer wichtigen Botschaft: Bildung ist der SchlÃ¼
 ssel zu einer gerechteren Zukunft.\r\n\r\nDas Konzert dient der Sammlung
  von Spenden fÃ¼r ein Projekt von CARE\, welches die Bildung von Frauen 
 und MÃ¤dchen in Nepal fÃ¶rdert. Durch ihre Darbietungen mÃ¶chten die SÃ¤
 ngerinnen das Publikum inspirieren und zu einem globalen Einsatz fÃ¼r Gl
 eichstellung und Chancengleichheit ermutigen.\r\n\r\nDie Besetzung:\r\nN
 athalie Braun\, Sophia Braun\, Leonie-Alicia Kajic\, Jaimely Richardson 
 Rodriguez\, Alessia Weber\, Rosa Mangold\, Sarah-Fanny Tautscher\, Jonna
  HacklÃ¤nder\, Mina Todorovski\, Alexandra Lajta\r\n\r\n \r\n\r\nFreie P
 latzwahl!\r\nDas bedeutet\, dass Sie mit Ihrem Ticket entsprechend den Ã
 ¶rtlichen Gegebenheiten Ihren Platz frei auswÃ¤hlen kÃ¶nnen. Es kann sic
 h dabei um SitzplÃ¤tze\, StehplÃ¤tze oder eine Teilbestuhlung ohne Sitzp
 latzanspruch handeln.
 
LOCATION:Kulturverein "Die BÃ¼hne"
URL:https://www.die-buehne-purkersdorf.at/programm/
SUMMARY:Blue Monday – Voices for Women
END:VEVENT
END:VCALENDAR
