BEGIN:VCALENDAR
VERSION:2.0
PRODID:-//Purkersdorf Online//NONSGML V1.0//DE
BEGIN:VEVENT
UID:15403@puon.at
DTSTAMP:20260422T090354
DTSTART:20250509T193000
DTEND:20250509T203000
LAST-MODIFIED:20250223T152644
DESCRIPTION:Foto: Â© vienna event pictures / werner krause\r\n\r\nINZEPT
 ION ist eine auÃŸergewÃ¶hnliche Hommage an eine der erfolgreichsten Rock
 bands aller Zeiten: LED ZEPPELIN.\r\nINZEPTION versetzt das Publikum zur
 Ã¼ck in die Zeit\, als Robert Plant\, Jimmy Page\, John Paul Jones und J
 ohn Bonham mit ihren Welthits begeisterten. Ob bei „Whole Lotta Love“\, 
 „Kashmir“\, „Black Dog“\, „Immigrant Song“ oder dem Klassiker „Stairway 
 to Heaven“: INZEPTION meistert die schwierigen Songs mit einer Leichtigk
 eit\, die jeden LED ZEPPELIN-Fan Ã¼berzeugt.\r\nDas erklÃ¤rte Ziel von I
 nzeption ist es\, den Sound und das Live Feeling von Led Zeppeiln auf di
 e BÃ¼hne zu bringen. Inzeption nimmt Euch mit auf eine musikalische Reis
 e\, die in den spÃ¤ten 60er beginnt und sich Ã¼ber die gesamten siebzige
 r Jahre bis 1980 spannt. SchlieÃŸt die Augen und vielleicht fÃ¼hlt ihr E
 uch wie 1969 in der Londoner Royal Albert Hall\, wie 1973 im New Yorker 
 Madison Square Garden oder wie 1979 am Knebworth Festival. „… cause it‘s
  been a long time since I rock’n‘rolled!“\r\n\r\nBesetzung:\r\nGÃ¼nter P
 rangl (voc): Gilt als einer der besten RocksÃ¤nger des Landes. Seiner ab
 soluten Lieblingsband Led Zeppelin hat er schon mit Coverbands (Led Zepp
 elin Revival Band\, Whole Lotta Zep) gehuldigt. Seine Gesangstechnik und
  sein Timbre stehen denen von Robert Plant in seinen besten Zeiten um ni
 chts nach.\r\nMartin Kohlmann (git): Martin hat viel Erfahrung in seinen
  bisherigen Bluesrockbands (Thunderballs – The Austrian AC-DC Cover Band
 \, The Stonez\, Rock’n’Roll’s Voice) gesammelt. Er sorgt fÃ¼r den Blues 
 bei Inzeption und schlÃ¤gt auch die Riffs authentisch an. Sein Ton ist u
 nmissverstÃ¤ndlich aus Les Paul und Marshall geformt.\r\nStephan FÃ¶rst 
 (bass): Er ist einer der gefragtesten Bassisten\, sei es fÃ¼r Sessions o
 der Live Auftritte\, des Landes. Sein solides Fundament und sein prÃ¤zis
 es Timing sind eine elementare SÃ¤ule im Inzeption Sound. Mit Rainer\, d
 em Schlagzeuger\, hat er bereits bei Point Venus lange Jahre zusammenges
 pielt.\r\nMax Tschida (keyb): Max gehÃ¶rt zu den Top-Keyboardern in Ã–st
 erreich. Stets beweist er nicht nur seine musikalische Vielseitigkeit\, 
 sondern auch sein GespÃ¼r fÃ¼r die richtigen Sounds. Und auch bei Inzept
 ion setzt er gekonnt in den Orgel- und Synthesizernummern von Led Zeppel
 in die wichtigen Akzente.\r\nRainer Schmid (drums): Rainer hat sein Idol
  Bonzo minutiÃ¶s studiert. Das charakteristische leicht hinter dem Beat 
 zu spielen beherrscht er bis zur Perfektion. Weiters steht er John Bonha
 m in Dynamik und Power um nichts nach. Mit Stephan ist er perfekt eingeg
 roovt. (Pressetext)\r\n\r\nInfos\, Tourdates und Demos:\r\ninzeption.com
 \r\nfacebook.com\r\n\r\nFreie Platzwahl! Das bedeutet\, dass Sie mit Ihr
 em Ticket entsprechend den Ã¶rtlichen Gegebenheiten Ihren Platz frei aus
 wÃ¤hlen kÃ¶nnen. Es kann sich dabei um SitzplÃ¤tze\, StehplÃ¤tze oder ei
 ne Teilbestuhlung ohne Sitzplatzanspruch handeln.
 
LOCATION:Kulturverein "Die BÃ¼hne"
URL:https://www.die-buehne-purkersdorf.at/programm/
SUMMARY:INZEPTION - Die LED ZEPPELIN-Tribute Show
END:VEVENT
END:VCALENDAR
