BEGIN:VCALENDAR
VERSION:2.0
PRODID:-//Purkersdorf Online//NONSGML V1.0//DE
BEGIN:VEVENT
UID:RFCALITEMbf4d1c25-3237-00ac-8693-f19b58bce59420250111T193000Z
DTSTAMP:20260422T094502
DTSTART:20250111T203000
DTEND:20250111T023000
LAST-MODIFIED:20250111T203000
DESCRIPTION:Am Samstag\, den 11. Jänner 2025 findet bereits zum 23. Mal 
 der Musikerball der Stadtkapelle Purkersdorf im Stadtsaal in Purkersdorf
  statt.<br>Einlass: 19:30\, Beginn: 20:30Unser tanzbegeistertes Publikum
  erwarten unter anderem beschwingte Tanzmusik von der Stadtkapelle Purke
 rsdorf und vom Joe Hofbauer Quintett.<br>Weiteres können Sie bei der gro
 ßen Tombola und beim Jux Basar tolle Preise gewinnen.Die Bewirtung unser
 er Gäste wird in bewährter Weise vom Gasthaus Hochram Alpe übernommen.Ka
 rten gibt's bei den MusikerInnen der Stadtkapelle Purkersdorf\, der Raif
 feisen Bank Wienerwald in Purkersdorf\, Optik am Hauptplatz\, Bergers Re
 isewelt und unter 0664/277 77 99. Kartenpreise: Schüler und Studenten bz
 w.<br>Raiffeisen Jugendklub bis zum 27. Lebensjahr: 12 Euro\; Erwachsene
 : VVK 18 Euro / Abendkasse 20 EuroWir freuen uns über Ihren Besuch und w
 ünschen Ihnen eine rauschende Ballnacht.
 
LOCATION:Diverse, Stadtsaal Purkersdorf 3002 Purkersdorf
SUMMARY:Musikerball der Stadtkapelle Purkersdorf
END:VEVENT
END:VCALENDAR
