BEGIN:VCALENDAR
VERSION:2.0
PRODID:-//Purkersdorf Online//NONSGML V1.0//DE
BEGIN:VEVENT
UID:RFCALITEM734a8643-378b-39fa-9bd4-ca3da990eed220250118T140000Z
DTSTAMP:20260424T155302
DTSTART:20250118T150000
DTEND:20250118T160000
LAST-MODIFIED:20250118T150000
DESCRIPTION:Agathe\, die beiden Musiker und die Sängerin machen Musik.<b
 r>Doch den einen sind sie zu laut und den anderen zu fröhlich.<br>Wieder
  und wieder werden sie vertrieben und ziehen weiter von einem Ort zum an
 deren.Â Von Vorurteilen und dem Glauben an sich selbst
 
LOCATION:Bildungszentrum Purkersdorf, Schwarzhubergasse 5 3002 Purkersdorf
SUMMARY:Agathes Musikkoffer - Hallo Gypsygitarre
END:VEVENT
END:VCALENDAR
