BEGIN:VCALENDAR
VERSION:2.0
PRODID:-//Purkersdorf Online//NONSGML V1.0//DE
BEGIN:VEVENT
UID:RFCALITEM6987ce63-b0a0-1eae-5509-6534814a6fae20250104T150000Z
DTSTAMP:20260421T163958
DTSTART:20250104T160000
DTEND:20250104T220000
LAST-MODIFIED:20250104T160000
DESCRIPTION:vielfältiges Punschangebothausgemachte Waffelndeftige Leberk
 ässemmelnerfrischende Getränke
 
LOCATION:Einsatzzentrale ASB und FF Purkersdorf, Tullnerbachstraße 2 3002 Purkersdorf
SUMMARY:Neujahrspunsch der Freiwilligen Feuerwehr Purkersdorf
END:VEVENT
END:VCALENDAR
