BEGIN:VCALENDAR
VERSION:2.0
PRODID:-//Purkersdorf Online//NONSGML V1.0//DE
BEGIN:VEVENT
UID:15375@puon.at
DTSTAMP:20260422T131034
DTSTART:20250113T193000
DTEND:20250113T203000
LAST-MODIFIED:20250113T142327
DESCRIPTION:Foto: Â© Elise Madl\r\n\r\nIm Rahmen von "come on"\r\n\r\nDi
 e Singer-Songwriterin Marvie entdeckte schon frÃ¼h ihre Leidenschaft fÃ¼
 r Musik. In eine musikalische Familie hineingeboren\, spielt sie Klavier
 \, singt und komponiert eigene StÃ¼cke.\r\nMit der Band TMC Girls wurde 
 sie 2018 niederÃ¶sterreichische Landessiegerin beim Wettbewerb podium ja
 zz.pop.rock. 2021 gewann sie mit ihren Eigenkompositionen in der Kategor
 ie Singer/Songwriter sowohl den Landes- als auch den Bundessieg.\r\n2022
  erÃ¶ffnete sie den Kultursommer in Purkersdorf mit ihrer Band\, die sie
  seither begleitet. Nun freut sich Marvie\, bereits zum dritten Mal auf 
 der BÃ¼hne Purkersdorf im Rahmen von „Blue Monday“ auftreten zu dÃ¼rfen 
 und das Publikum mit ihrer Musik zu begeistern.\r\n\r\nBesetzung:\r\nMar
 vie Pfeifer (Vocals & Piano)\,\r\nPaul Kleinscheck (Percussion & Drums)\
 ,\r\nJulian Schoof (E-Gitarre)\,\r\nLouisa Pock (E-Bass)\r\n\r\nFreie Pl
 atzwahl!\r\nDas bedeutet\, dass Sie mit Ihrem Ticket entsprechend den Ã¶
 rtlichen Gegebenheiten Ihren Platz frei auswÃ¤hlen kÃ¶nnen. Es kann sich
  dabei um SitzplÃ¤tze\, StehplÃ¤tze oder eine Teilbestuhlung ohne Sitzpl
 atzanspruch handeln.
 
LOCATION:Kulturverein "Die BÃ¼hne"
URL:https://www.die-buehne-purkersdorf.at/programm/
SUMMARY:Blue Monday – Marvie Pfeifer & Band
END:VEVENT
END:VCALENDAR
