BEGIN:VCALENDAR
VERSION:2.0
PRODID:-//Purkersdorf Online//NONSGML V1.0//DE
BEGIN:VEVENT
UID:15374@puon.at
DTSTAMP:20260421T182035
DTSTART:20250105T180000
DTEND:20250105T190000
LAST-MODIFIED:20241228T164513
DESCRIPTION:Foto: Â© zVg Schrotti\r\n\r\nBenefiz - Gedenkkonzert fÃ¼r He
 rbert Michelitsch jun.\r\n\r\nAm 28. August dieses Jahres erschÃ¼tterte 
 die Nachricht vom plÃ¶tzlichen Herztod des beliebten Purkersdorfers und 
 geschÃ¤tzten Musikers Herbert Michelitsch jun. Familie\, Freunde und die
  lokale Musikszene. UnzÃ¤hlige Male war er in den letzten 40 Jahren auf 
 den BÃ¼hnen in Purkersdorf\, Wien und darÃ¼ber hinaus in verschiedenen M
 usikgruppen zu sehen und zu hÃ¶ren\, oftmals auch als Austropop-Duo mit 
 David Schrottenbaum. Bekannt war er vor allem fÃ¼r sein virtuoses Gitarr
 espielen\, weshalb ihn seine musikalischen Wegbegleiter den Spitznamen „
 HÃ¶rb Speedfinger“ verliehen.\r\n\r\nAn seinem Geburtstag am 5. JÃ¤nner 
 lud er 37 Jahre lang zu seinem eigenen Konzertabend ein. Aus diesem Grun
 d wollen ihn seine Freunde am kommenden 5. JÃ¤nner 2025 mit einem Gedenk
 konzert in der Purkersdorfer „BÃ¼hne“ noch einmal ehren. Von 18 – 22 Uhr
   spielen viele seiner ehemaligen Bandmitglieder ein bunt gemischtes Pro
 gramm unter dem Titel „HÃ¶rb Speedfinger`s Friends“. Von Austropop bis H
 ardrock werden viele bekannte Songs aus 4 Jahrzehnten zu hÃ¶ren sein.\r\
 n\r\nUnterstÃ¼tzt wird das Konzert von der Purkersdorfer Gemeinde\, dem 
 Sportverein und der Firma „PKE“. Der Eintritt ist frei\, freiwillige Spe
 nden kommen Herberts Sohn Valentin zugute.\r\n\r\nBesetzung:\r\nSchrotti
                        Gesang Gitarre\r\nGernot Ruzicka          Gesang 
 Gitarre\r\nWolfgang Fellinger    Schlagzeug\r\nWalter Heginger         K
 eyboard\r\nChris Molisch             Gitarre\r\nRobbie Noebauer      Bas
 s\r\nThomas Rydl              Schlagzeug\r\nFlorian Lang               G
 esang Gitarre\r\nDirty Alex                    Gesang Gitarre\r\nPeter B
 einhofer          Ziehharmonika\r\n\r\nFreie Platzwahl! Das bedeutet\, d
 ass Sie mit Ihrem Ticket entsprechend den Ã¶rtlichen Gegebenheiten Ihren
  Platz frei auswÃ¤hlen kÃ¶nnen. Es kann sich dabei um SitzplÃ¤tze\, Steh
 plÃ¤tze oder eine Teilbestuhlung ohne Sitzplatzanspruch handeln.
 
LOCATION:Kulturverein "Die BÃ¼hne"
URL:https://www.die-buehne-purkersdorf.at/programm/
SUMMARY:„HÃ¶rb Speedfinger’s Friends“
END:VEVENT
END:VCALENDAR
