BEGIN:VCALENDAR
VERSION:2.0
PRODID:-//Purkersdorf Online//NONSGML V1.0//DE
BEGIN:VEVENT
UID:15372@puon.at
DTSTAMP:20260424T235421
DTSTART:20250126T080000
DTEND:20250126T160000
LAST-MODIFIED:20241125T170912
LOCATION:Purkersdorf
SUMMARY:Gemeinderatswahl
END:VEVENT
END:VCALENDAR
