BEGIN:VCALENDAR
VERSION:2.0
PRODID:-//Purkersdorf Online//NONSGML V1.0//DE
BEGIN:VEVENT
UID:15347@puon.at
DTSTAMP:20260425T054802
DTSTART;VALUE=DATE:20250526
DTEND;VALUE=DATE:20250527
LAST-MODIFIED:20241110T131142
LOCATION:Purkersdorf
SUMMARY:Biomüll
END:VEVENT
END:VCALENDAR
