BEGIN:VCALENDAR
VERSION:2.0
PRODID:-//Purkersdorf Online//NONSGML V1.0//DE
BEGIN:VEVENT
UID:15344@puon.at
DTSTAMP:20260421T130743
DTSTART;VALUE=DATE:20250428
DTEND;VALUE=DATE:20250429
LAST-MODIFIED:20241110T131142
LOCATION:Purkersdorf
SUMMARY:Biomüll
END:VEVENT
END:VCALENDAR
