BEGIN:VCALENDAR
VERSION:2.0
PRODID:-//Purkersdorf Online//NONSGML V1.0//DE
BEGIN:VEVENT
UID:15338@puon.at
DTSTAMP:20260424T103108
DTSTART;VALUE=DATE:20250203
DTEND;VALUE=DATE:20250204
LAST-MODIFIED:20241110T131142
LOCATION:Purkersdorf
SUMMARY:Biomüll
END:VEVENT
END:VCALENDAR
