BEGIN:VCALENDAR
VERSION:2.0
PRODID:-//Purkersdorf Online//NONSGML V1.0//DE
BEGIN:VEVENT
UID:15336@puon.at
DTSTAMP:20260422T015123
DTSTART;VALUE=DATE:20250107
DTEND;VALUE=DATE:20250108
LAST-MODIFIED:20241110T131142
LOCATION:Purkersdorf
SUMMARY:Biomüll
END:VEVENT
END:VCALENDAR
