BEGIN:VCALENDAR
VERSION:2.0
PRODID:-//Purkersdorf Online//NONSGML V1.0//DE
BEGIN:VEVENT
UID:15300@puon.at
DTSTAMP:20260422T010703
DTSTART;VALUE=DATE:20250505
DTEND;VALUE=DATE:20250506
LAST-MODIFIED:20251217T180927
LOCATION:Purkersdorf
SUMMARY:Restmüll 120-240l
END:VEVENT
END:VCALENDAR
