BEGIN:VCALENDAR
VERSION:2.0
PRODID:-//Purkersdorf Online//NONSGML V1.0//DE
BEGIN:VEVENT
UID:15284@puon.at
DTSTAMP:20260422T133912
DTSTART;VALUE=DATE:20250205
DTEND;VALUE=DATE:20250206
LAST-MODIFIED:20241110T124922
LOCATION:Purkersdorf
SUMMARY:Gelber Sack
END:VEVENT
END:VCALENDAR
