BEGIN:VCALENDAR
VERSION:2.0
PRODID:-//Purkersdorf Online//NONSGML V1.0//DE
BEGIN:VEVENT
UID:15211@puon.at
DTSTAMP:20260426T045544
DTSTART:20240920T193000
DTEND:20240920T220000
LAST-MODIFIED:20240825T172512
DESCRIPTION:Foto: © Robert Peres\r\n\r\nEin ziemlich ungeordneter Versu
 ch\, über Ordnung zu reden\r\n\r\nIrgendwie sind wir Menschen ziemlich 
 eng im Würgegriff der Hilfszeitwörter.\r\nAlso\, nicht der Wörter sel
 bst\, aber das\, was damit beschrieben wird\, das bestimmt sehr stark da
 s Terrain\, in dem unser Handeln abläuft\; Können\, Müssen und Wollen
 .\r\n\r\nWer alles weiß und kann\, aber nichts will\, wird nix tun. Gut
 \, außer\, er muss. Aber dann macht er nur so lange\, bis er nicht mehr
  muss.\r\nUnd wenn er alles weiß und kann\, wird er sich das so einrich
 ten\, dass er immer weniger muss\, und dann wird er mit der Zeit auch ni
 x mehr machen. Und so zu leben\, also das muss man schon echt wollen.\r\
 n\r\n(Pressetext)\r\n\r\nFreie Platzwahl! Das bedeutet\, dass Sie mit Ih
 rem Ticket entsprechend den örtlichen Gegebenheiten Ihren Platz frei au
 swählen können. Es kann sich dabei um Sitzplätze\, Stehplätze oder e
 ine Teilbestuhlung ohne Sitzplatzanspruch handeln.\r\n
 
LOCATION:Kulturverein "Die Bühne"
URL:https://www.die-buehne-purkersdorf.at/programm/
SUMMARY:GUNKL - Nicht nur, sondern auch
END:VEVENT
END:VCALENDAR
