BEGIN:VCALENDAR
VERSION:2.0
PRODID:-//Purkersdorf Online//NONSGML V1.0//DE
BEGIN:VEVENT
UID:15177@puon.at
DTSTAMP:20260425T203307
DTSTART:20240607T193000
DTEND:20240607T203000
LAST-MODIFIED:20240606T183630
DESCRIPTION:Foto Â© Joseph Schimmer\r\n\r\nIn der "BÃ¼hnen-JazzBar"\r\n\
 r\nDas Fagner Wesley Quartet\, 2021 in Wien gegrÃ¼ndet\, hat sich mit ei
 ner einzigartigen Mischung aus VirtuositÃ¤t\, telepathischem Interplay u
 nd mitreiÃŸender Spielfreude rasch zu einer der aufregendsten Jazzformat
 ionen der Ã¶sterreichischen Musikszene entwickelt.\r\nDie Band\, bestehe
 nd aus den Musikern Fagner Wesley am Klavier\, Jojo Lackner am Bass\, Ch
 ristopher Pawluk an der Gitarre und Matheus Jardim am Schlagzeug\, prÃ¤s
 entiert einen erfrischenden Ansatz fÃ¼r den Modern Jazz mit einer klaren
  brasilianischen Note.\r\nDie musikalische Chemie zwischen den Mitgliede
 rn des Quartets ist faszinierend und erzeugt ein Klangspektrum\, das von
  intensiven bis hin zu nostalgischen Momenten reicht\, stets jedoch von 
 melodischer SchÃ¶nheit geprÃ¤gt ist.\r\nDie Bandmitglieder sind bekannt 
 fÃ¼r ihre technische Brillanz und ihre FÃ¤higkeit\, musikalische Geschic
 hten zu erzÃ¤hlen.\r\nIhre Live-Auftritte sind ein beeindruckendes Erleb
 nis\, bei dem das Publikum in den Bann der musikalischen Magie gezogen w
 ird.\r\nDas Fagner Wesley Quartet hat sich einen festen Platz in der zei
 tgenÃ¶ssischen Jazzszene erobert und setzt die Tradition des Jazz mit br
 asilianischem Flair auf aufregende Weise fort. (Pressetext)\r\n\r\nBeset
 zung:\r\nFagner Wesley (BRA) – piano / synth\r\nChristopher Pawluk (A) -
  guitar\r\nJojo Lackner (A) - bass\r\nMatheus Jardim (BRA) - drums\r\n__
 ________________________________________________________________________
 _________\r\n\r\nEinlass: 18:30\r\nBeginn: 19:30\r\n\r\nKarten:\r\n\r\n 
    VVK oeticket: Karten online | Tel.: 0196096\r\n    VVK EVENTJET: Kart
 en online... demnÃ¤chst\r\n    Karten Vorverkauf: € 23.-\r\n    Karten A
 bendkassa: € 25.-\r\n\r\n\r\nErmÃ¤ÃŸigungen:\r\n\r\n    SchÃ¼ler/Student
 en/1424Jugend:karte NÃ– (Ausweis) Ticketpreis € 10.-\r\n    Ã–1-Club: 10
 % ErmÃ¤ÃŸigung pro Ticket (Club-Ausweis)\r\n    AK NÃ–: 20% ErmÃ¤ÃŸigung
  pro Ticket (Mitgleidsausweis)\r\n\r\n\r\nFreie Platzwahl!\r\nDas bedeut
 et\, dass Sie mit Ihrem Ticket entsprechend den Ã¶rtlichen Gegebenheiten
  Ihren Platz frei auswÃ¤hlen kÃ¶nnen.\r\nEs kann sich dabei um SitzplÃ¤t
 ze\, StehplÃ¤tze oder eine Teilbestuhlung ohne Sitzplatzanspruch handeln
 .
 
LOCATION:Kulturverein "Die BÃ¼hne"
URL:https://www.die-buehne-purkersdorf.at/index.php?id=37
SUMMARY:VERSCHOBEN: "Jazz-Bar" - Fagner Wesley Quartet
END:VEVENT
END:VCALENDAR
