BEGIN:VCALENDAR
VERSION:2.0
PRODID:-//Purkersdorf Online//NONSGML V1.0//DE
BEGIN:VEVENT
UID:15176@puon.at
DTSTAMP:20260426T000843
DTSTART:20240609T080000
DTEND:20240609T160000
LAST-MODIFIED:20240525T171053
SUMMARY:EU-Wahl
END:VEVENT
END:VCALENDAR
