BEGIN:VCALENDAR
VERSION:2.0
PRODID:-//Purkersdorf Online//NONSGML V1.0//DE
BEGIN:VEVENT
UID:15161@puon.at
DTSTAMP:20260424T235421
DTSTART:20240525T193000
DTEND:20240525T203000
LAST-MODIFIED:20240401T170048
DESCRIPTION:Foto: zVg Mary Jane's Soundgarden\r\n\r\ndancing shoes and s
 hake everything\r\n\r\n\r\nDie Funkband „Mary Jane´s Soundgarden“ hat si
 ch seit ihrer GrĂĽndung 2019 dem Groove verschrieben.\r\nDie Rhythmusgru
 ppe bestehend aus Lukas Schmidt (Guit.)\, Lukas Klingseisen (Dr.) und Mi
 chael Reitinger (B.) sorgt fĂĽr das musikalische Fundament der in Wien l
 ebenden Gruppe.\r\nDie eingespielte Mischung aus P-Funk\, Neo-Soul und m
 odernen Funkrock Elementen lĂ¤sst den Platz fĂĽr die verspielten Synth-S
 ounds des Saxophonisten Dido Aschauer.\r\nVervollstĂ¤ndigt wird „Mary Ja
 ne´s Soundgarden“ durch die SĂ¤ngerin Tanja Peinsipp aka „Aunty“\, die m
 it ihrer BĂĽhnenprĂ¤senz niemanden still sitzen lĂ¤sst.\r\nDas Ziel ihre
 r Show ist es\, den Besucher*innen einen unvergesslichen Abend zu bereit
 en und gemeinsam zu feiern.\r\nSo put on your dancing shoes and shake ev
 erything you got! (Pressetext)\r\n\r\nMaceo Parker Medley - Mary Jane's 
 Soundgarden [Live Session] - YouTube\r\n\r\nWhat's The Use? - Mary Jane'
 s Soundgarden [Live Session] - YouTube\r\n\r\nhttps://www.instagram.com/
 maryjanessoundgarden/\r\n\r\n\r\n ______________________________________
 _______________________________________________________________\r\n\r\n\
 r\nEinlass: 18:30 Uhr\r\nBeginn: 19:30 Uhr\r\n\r\nKarten:\r\n\r\n    VVK
  oeticket: Karten online | Tel.: 0196096\r\n    Eventjet: Karten online.
 .. demnĂ¤chst\r\n    Karten Vorverkauf: € 25.-\r\n    Karten Abendkassa:
  € 28.-\r\n\r\n\r\nErmĂ¤Ăźigungen:\r\n\r\n    SchĂĽler/Studenten/1424Jug
 end:karte NĂ– (Ausweis) Ticketpreis € 10.-\r\n    Ă–1-Club: 10% ErmĂ¤Ăźi
 gung pro Ticket (Club-Ausweis)\r\n    AK NĂ–/Ă–GB: 20% ErmĂ¤Ăźigung pro 
 Ticket (AK-Servicekarte/Ă–GB-Mitgliedskarte)\r\n\r\n  Freie Platzwahl!\r
 \nDas bedeutet\, dass Sie mit Ihrem Ticket entsprechend den Ă¶rtlichen G
 egebenheiten Ihren Platz frei auswĂ¤hlen kĂ¶nnen.\r\nEs kann sich dabei 
 um SitzplĂ¤tze\, StehplĂ¤tze oder eine Teilbestuhlung ohne Sitzplatzansp
 ruch handeln.
 
LOCATION:Kulturverein "Die BĂĽhne"
URL:https://www.die-buehne-purkersdorf.at/index.php?id=37
SUMMARY:Mary Jane’s Soundgarden
END:VEVENT
END:VCALENDAR
