BEGIN:VCALENDAR
VERSION:2.0
PRODID:-//Purkersdorf Online//NONSGML V1.0//DE
BEGIN:VEVENT
UID:15160@puon.at
DTSTAMP:20260424T141451
DTSTART:20240517T193000
DTEND:20240517T203000
LAST-MODIFIED:20240401T161051
DESCRIPTION:Fotos Â© zVg Zeilinger\r\n\r\nIn der "BÃ¼hnen-JazzBar"\r\n\r
 \nEin wunderbares Trio mit dem virtuosen Nikola Zaricbringt neben Jazzst
 andards stimmungsvolle Weisen ausden LÃ¤ndern des Balkan.\r\nSpielfreude
  und KreativitÃ¤tsind hier neben fein gezeichneten Melodien und treibend
 em Rhythmus garantiert. (Pressetext)\r\n\r\nBesetzung:\r\nNikola Zaric\,
  acc\r\nGeorg Schmelzer-Ziringer\, b\r\nGerhard Zeilinger\, dm\r\n______
 ________________________________________________________________________
 _____\r\n\r\nEinlass: 18:30\r\nBeginn: 19:30\r\n\r\nKarten:\r\n\r\n    V
 VK oeticket: Karten online | Tel.: 0196096\r\n    VVK EVENTJET: Karten o
 nline... demnÃ¤chst\r\n    Karten Vorverkauf: € 22.-\r\n    Karten Abend
 kassa: € 25.-\r\n\r\n\r\nErmÃ¤ÃŸigungen:\r\n\r\n    SchÃ¼ler/Studenten/1
 424Jugend:karte NÃ– (Ausweis) Ticketpreis € 10.-\r\n    Ã–1-Club: 10% Er
 mÃ¤ÃŸigung pro Ticket (Club-Ausweis)\r\n    AK NÃ–: 20% ErmÃ¤ÃŸigung pro
  Ticket (Mitgleidsausweis)\r\n\r\n\r\nFreie Platzwahl!\r\nDas bedeutet\,
  dass Sie mit Ihrem Ticket entsprechend den Ã¶rtlichen Gegebenheiten Ihr
 en Platz frei auswÃ¤hlen kÃ¶nnen.\r\nEs kann sich dabei um SitzplÃ¤tze\,
  StehplÃ¤tze oder eine Teilbestuhlung ohne Sitzplatzanspruch handeln.
 
LOCATION:Kulturverein "Die BÃ¼hne"
URL:https://www.die-buehne-purkersdorf.at/index.php?id=37
SUMMARY:"JAZZ-Bar" - Zaric / Zeilinger / Schmelzer
END:VEVENT
END:VCALENDAR
