BEGIN:VCALENDAR
VERSION:2.0
PRODID:-//Purkersdorf Online//NONSGML V1.0//DE
BEGIN:VEVENT
UID:15112@puon.at
DTSTAMP:20260425T012847
DTSTART:20240526T070000
DTEND:20240526T130000
LAST-MODIFIED:20240130T133342
DESCRIPTION:Unser Flohmarkt findet jeden letzten Sonntag von März bis O
 ktober statt. Besuchen Sie uns in Gablitz auf dem Friedrich-Lintner-Plat
 z (BILLA Parkplatz) in der Linzerstraße 1
 
LOCATION:Gablitz, Linzerstraße 1
URL:https://flohmarkt-gablitz.at/
SUMMARY:Flohmarkt Gablitz
END:VEVENT
END:VCALENDAR
