BEGIN:VCALENDAR
VERSION:2.0
PRODID:-//Purkersdorf Online//NONSGML V1.0//DE
BEGIN:VEVENT
UID:RFCALITEM983376d2-b38a-7018-6cae-f484a987f5de20231203T150000Z
DTSTAMP:20260422T115639
DTSTART:20231203T160000
DTEND:20231203T180000
LAST-MODIFIED:00000000T000000
DESCRIPTION:Seit 40 Jahren tritt der bekannte Männerchor Bolschoi Don Ko
 saken\, der ausschließlich aus Opernsolisten besteht\, unter der Leitung
  von Prof.<br>Petja Houdjakov in ganz Europa auf.<br>Der Gesang in der â
 €žkosakischenâ€œ Tradition wird charakterisiert durch hohe Tenorstimmen 
 (Falsett) und durch tiefe Bässe (Basso profondo)\, welche sich zu einem 
 ausbalancierten mystischen Klang vereinen.<br>Passend zur Adventzeit ste
 hen im Programm sakrale Gesänge aus der orthodoxen Liturgie\, bekannte r
 ussische und ukrainische Volkslieder sowie internationale Weihnachtslied
 er.<br>Da sich sowohl die Firma als auch das â€œKosakische Hausâ€ in St
 rasshof befinden\, kommt der Chor der Bolschoi Don Kosaken mehr von der 
 Donau als vom Don - und besingt in dieser besinnlichen Zeit die Stadtpfa
 rrkirche in Purkersdorf.<br>Verbringen auch Sie mit uns die schönsten Ta
 ge des Jahres und reichen wir einander die Hände\, damit wir durch die M
 usik gemeinsam ein Zeichen für den Frieden setzen können.<br> Mehr Infor
 mationen und Bestellungen unter lera@bdk.at oder https://www.bdk.at
 
LOCATION:Pfarrkirche St. Jakob, Hauptplatz 7 3002 Purkersdorf
SUMMARY:Der Boschoi Don Kosaken Chor in Purkersdorf
END:VEVENT
END:VCALENDAR
