BEGIN:VCALENDAR
VERSION:2.0
PRODID:-//Purkersdorf Online//NONSGML V1.0//DE
BEGIN:VEVENT
UID:15076@puon.at
DTSTAMP:20260422T133913
DTSTART:20231202T170000
DTEND:20231202T180000
LAST-MODIFIED:20231105T124840
DESCRIPTION:Foto: zVg Fibich\r\n\r\nNeue Advent- und Weihnachtslieder / 
 MITMACHKONZERT FÃœR KINDER\r\n\r\n"Es schneit\, es schneit!"\r\n\r\nDer 
 beliebte Kinderliedermacher hat Weihnachtslieder fÃ¼r Kinder komponiert 
 - jedoch keine traditionellen Weihnachtslieder\, sondern neue\, kindgemÃ
 ¤ÃŸe Melodien und Texte rund um das groÃŸe Fest.\r\nKinder und Erwachsen
 e werden aktiv in das Konzert miteinbezogen und dÃ¼rfen sogar auf die BÃ
 ¼hne kommen!\r\nDass Bernhard Fibich weiÃŸ\, wovon er singt\, ist keine 
 Ãœberraschung: Er ist selbst Vater von drei Kindern...\r\n\r\nSeit 1991 
 ist Bernhard Fibich hauptberuflich und ausschlieÃŸlich als Kinderliederm
 acher unterwegs.\r\nDavor war er jahrelang Lehrer an verschiedenen Schul
 typen und in der Lehrerfortbildung tÃ¤tig.\r\nEr hat eine abgeschlossene
  universitÃ¤re pÃ¤dagogische Ausbildung und besitzt in zwei FÃ¤chern die
  LehramtsprÃ¼fung fÃ¼r hÃ¶here Schulen.\r\nBernhard Fibich spielt etwa 2
 50 Solo-Mitmachkonzerte fÃ¼r Kinder pro Jahr.\r\n\r\nBernhard Fibichs Ko
 nzerte umfassen ausschlieÃŸlich neue\, von ihm komponierte und\r\ngetext
 ete Lieder fÃ¼r Kinder von 3-11 Jahren.\r\nBernhards Mitmachkonzerte sin
 d lustig\, schwungvoll und reich an Bewegung fÃ¼r die Kinder. Die Musik 
 ist kindgerecht\, einprÃ¤gsam und wird live gespielt.\r\nBernhard Fibich
  begleitet sich selbst und die singenden Kinder auf der Gitarre.\r\n____
 ________________________________________________________________________
 _________________________\r\n\r\nEinlass: 16:30 Uhr\r\nKonzert: 17:00 Uh
 r\r\n\r\nKarten:\r\n\r\n    VVK oeticket: Karten online | Tel.: 0196096\
 r\n    Karten Vorverkauf: € 10.-\r\n    Karten Abendkassa: € 10.- (Kinde
 r bis 2 J. frei!)\r\n    KEINE ERMÃ„ÃŸIGUNGEN!
 
LOCATION:Kulturverein "Die BÃ¼hne"
URL:https://www.die-buehne-purkersdorf.at/index.php?id=37
SUMMARY:Kinderliedermacher BERNHARD FIBICH
END:VEVENT
END:VCALENDAR
