BEGIN:VCALENDAR
VERSION:2.0
PRODID:-//Purkersdorf Online//NONSGML V1.0//DE
BEGIN:VEVENT
UID:15039@puon.at
DTSTAMP:20260424T220844
DTSTART;VALUE=DATE:20240523
DTEND;VALUE=DATE:20240524
LAST-MODIFIED:20231101T130024
LOCATION:Purkersdorf
SUMMARY:Restmüll 770-1100l
END:VEVENT
END:VCALENDAR
