BEGIN:VCALENDAR
VERSION:2.0
PRODID:-//Purkersdorf Online//NONSGML V1.0//DE
BEGIN:VEVENT
UID:15021@puon.at
DTSTAMP:20260425T145305
DTSTART;VALUE=DATE:20240603
DTEND;VALUE=DATE:20240604
LAST-MODIFIED:20251217T180927
LOCATION:Purkersdorf
SUMMARY:Restmüll 120-240l
END:VEVENT
END:VCALENDAR
