BEGIN:VCALENDAR
VERSION:2.0
PRODID:-//Purkersdorf Online//NONSGML V1.0//DE
BEGIN:VEVENT
UID:14993@puon.at
DTSTAMP:20260426T015151
DTSTART;VALUE=DATE:20240610
DTEND;VALUE=DATE:20240611
LAST-MODIFIED:20231101T124738
LOCATION:Purkersdorf
SUMMARY:Biomüll
END:VEVENT
END:VCALENDAR
