BEGIN:VCALENDAR
VERSION:2.0
PRODID:-//Purkersdorf Online//NONSGML V1.0//DE
BEGIN:VEVENT
UID:14958@puon.at
DTSTAMP:20260424T175413
DTSTART;VALUE=DATE:20240521
DTEND;VALUE=DATE:20240522
LAST-MODIFIED:20231026T105745
LOCATION:Purkersdorf
SUMMARY:Altpapier
END:VEVENT
END:VCALENDAR
