BEGIN:VCALENDAR
VERSION:2.0
PRODID:-//Purkersdorf Online//NONSGML V1.0//DE
BEGIN:VEVENT
UID:14935@puon.at
DTSTAMP:20260421T181246
DTSTART:20230921T190000
DTEND:20230921T220000
LAST-MODIFIED:20230920T200907
DESCRIPTION:Öffentliche Sitzungen des Gemeinderats der Stadtgemeinde Pu
 rkersdorf
 
LOCATION:Stadtsaal Purkersdorf
SUMMARY:Gemeinderatssitzung
END:VEVENT
END:VCALENDAR
