BEGIN:VCALENDAR
VERSION:2.0
PRODID:-//Purkersdorf Online//NONSGML V1.0//DE
BEGIN:VEVENT
UID:RFCALITEM52c3b6e2-2120-aa19-17e9-0bfb9a48563820230908T173000Z
DTSTAMP:20260424T103110
DTSTART:20230908T193000
DTEND:20230908T220000
LAST-MODIFIED:00000000T000000
DESCRIPTION:Märchen\, Geschichten\, Sagen und Legenden waren immer ein w
 ichtige und ergiebige Quelle für die Musik.<br>Viele Komponisten haben s
 ie als Inspiration und Vorlage verwendet\, nicht nur für Opern\, sondern
  auch in der Orchester- und Kammermusik.<br>Wir laden in unserem Program
 m zu einer Reise ins Reich der Fantasie mit märchenhaft schöner Musik vo
 n Robert Schumann\, LeoÅ¡ JanÃ¡Äek\, Johan Amberg und aus Engelbert Hum
 perdincks Oper â€žHänsel und Gretelâ€œ.
 
LOCATION:Bildungszentrum Purkersdorf, Schwarzhubergasse 5 3002 Purkersdorf
SUMMARY:Purkersdorfer Klassikkonzert: Ensemble Tris - Märchen & Legenden
END:VEVENT
END:VCALENDAR
