BEGIN:VCALENDAR
VERSION:2.0
PRODID:-//Purkersdorf Online//NONSGML V1.0//DE
BEGIN:VEVENT
UID:RFCALITEMcba38c0f-ec31-729f-7c17-fb050e59d46a20230916T130000Z
DTSTAMP:20260422T025251
DTSTART:20230916T150000
DTEND:20230916T180000
LAST-MODIFIED:00000000T000000
DESCRIPTION:HOL DIR DEINE GRATIS MANGAS!Am 16.9. von 14:00 bis 17:00 in 
 der Stadtbibliothek Purkersdorf Bitte einen Ausweis mitnehmen\, in dem d
 as Geburtsdatum ersichtlich ist! Abgabe 3 Stück / Person!
 
LOCATION:Stadtbibliothek Purkersdorf, Schwarzhubergasse 5 3002  Purkersdorf
SUMMARY:MANGA DAY 2023
END:VEVENT
END:VCALENDAR
