BEGIN:VCALENDAR
VERSION:2.0
PRODID:-//Purkersdorf Online//NONSGML V1.0//DE
BEGIN:VEVENT
UID:RFCALITEM9db5db82-6d4b-eb07-32ff-6340a08e1e5720230915T150000Z
DTSTAMP:20260422T044155
DTSTART:20230915T170000
DTEND:20230915T203000
LAST-MODIFIED:00000000T000000
DESCRIPTION:In einer kleinen Wanderung tauschen wir uns über persönliche
  Schreibrituale aus und setzen nach einer gemeinsamen Jause die neuen Im
 pulse gleich in eigenen textlichen Rohfassungen um.<br>Wer möchte\, lies
 t seine Werke vor und erhält Feedback.<br> Mitzubringen: wetterfeste Kle
 idung\, eigenes textliches „Rohmaterial“\, Papier und Stift Im Pauschalb
 etrag enthalten: Fachinputs aus der Welt des kreativen Schreibens und ei
 ne kleine Stärkung Mind.<br>5 bis max.<br>25 Teilnehmer:innen  Anmeldung
  erforderlich\; Anmeldeschluss: bis spätestens 3 Tage vor der Veranstalt
 ung.<br>Kursleitung: Regina Reiter (www.zeitreif.at)
 
LOCATION:Naturpark Purkersdorf, wird bei Anmeldung bekanntgegeben  3002 Purkersdorf
SUMMARY:Die lange Nacht der unfertigen Texte
END:VEVENT
END:VCALENDAR
