BEGIN:VCALENDAR
VERSION:2.0
PRODID:-//Purkersdorf Online//NONSGML V1.0//DE
BEGIN:VEVENT
UID:RFCALITEM1daf7a09-b616-cfb5-440d-7f8104f05e2520230910T083000Z
DTSTAMP:20260422T132830
DTSTART:20230910T103000
DTEND:20230910T150000
LAST-MODIFIED:00000000T000000
DESCRIPTION:Am Sonntag\, 10. September 2023 lädt die Volkskultur Niederö
 sterreich wieder zum Tragen von Dirndl und Tracht ein.<br>Zu den Unterst
 ützern des Dirndlgwandsonntag zählen auch die beiden Diözesen des Landes
  und die evangelische Kirche Niederösterreich.<br>Mittlerweile gehört de
 r Dirndlgwandsonntag zu den beliebtesten und schönsten Traditionen des L
 andes.<br>Der ORF Radio Niederösterreich strahlt anlässlich des Dirndlgw
 andsonntag einen stimmungsvollen Radiofrühschoppen aus.
 
LOCATION:Schlosspark Purkersdorf, Schlosspark Hauptplatz 6 3002 Purkersdorf
SUMMARY:Dirndlgwandsonntag 2023
END:VEVENT
END:VCALENDAR
