BEGIN:VCALENDAR
VERSION:2.0
PRODID:-//Purkersdorf Online//NONSGML V1.0//DE
BEGIN:VEVENT
UID:RFCALITEMb4410a68-869c-d79a-2fa2-1a405af39a6020230910T080000Z
DTSTAMP:20260422T132830
DTSTART:20230910T100000
DTEND:20230910T183000
LAST-MODIFIED:00000000T000000
DESCRIPTION:Gemütliches Beisammensein bei Holzkohlengrill und Unterhaltu
 ng.<br>Sonntag mit Kinderprogramm.
 
LOCATION:Kirtag Maria im Wienerwald, Irenental 1 3011 Purkersdorf
SUMMARY:Kirtag Maria im Wienerwald
END:VEVENT
END:VCALENDAR
