BEGIN:VCALENDAR
VERSION:2.0
PRODID:-//Purkersdorf Online//NONSGML V1.0//DE
BEGIN:VEVENT
UID:RFCALITEM5682fd72-940d-aff6-b87b-f6007327e73220230908T170000Z
DTSTAMP:20260424T103109
DTSTART:20230908T190000
DTEND:20230908T220000
LAST-MODIFIED:00000000T000000
DESCRIPTION:Austropop live - UHRsprung.<br>Das Live Programm umfasst hau
 ptsächlich â€žHits des Austropopâ€œ (wie auch eigene Lieder).Â Veranstal
 ter ist das Stehbeisl\, Ort: Rathaus Innenhof
 
LOCATION:Rathaus Innenhof, Bachgasse 12 3002 Purkersdorf
SUMMARY:UHRsprung
END:VEVENT
END:VCALENDAR
