BEGIN:VCALENDAR
VERSION:2.0
PRODID:-//Purkersdorf Online//NONSGML V1.0//DE
BEGIN:VEVENT
UID:14915@puon.at
DTSTAMP:20260425T185717
DTSTART:20230819T203000
DTEND:20230819T220000
LAST-MODIFIED:20230815T102252
DESCRIPTION:Sommerkino der Gablitzer Grünen\r\n\r\nEintritt frei\r\n\r\
 nmit Isabelle Huppert\r\n
 
LOCATION:Gablitz, Kirchenplatz 1
SUMMARY:Sommerkino: Eine Frau mit berauschenden Talenten
END:VEVENT
END:VCALENDAR
