BEGIN:VCALENDAR
VERSION:2.0
PRODID:-//Purkersdorf Online//NONSGML V1.0//DE
BEGIN:VEVENT
UID:14912@puon.at
DTSTAMP:20260421T163958
DTSTART:20230922T193000
DTEND:20230922T203000
LAST-MODIFIED:20230728T120452
DESCRIPTION:Foto Â© Johannes-Raimann\r\n\r\n\r\nRhythmische Klangwelten 
 - Musikalische GrenzgÃ¤nge\r\n\r\nEs war die kaputte Kaffeemaschine\, de
 r daraus resultierende Ã„rger und die verschlafene Stimmung\, die zu Cof
 feebean Breakdown inspirierten….\r\n\r\nGekonnt packen PRIM TagtrÃ¤ume d
 es Bassisten in rhythmische Klangwelten und malen Bilder vor den Augen i
 hres Publikums. Musikalische GrenzgÃ¤nge\, klassische Formen vermischt m
 it Grooves\, die eher an Drum & Bass erinnern\, und polymorphe Rhythmusk
 onzepte – ihren Namen mÃ¼ssen PRIM sich mit Zahlen\, Gebetsritualen oder
  StÃ¤dten teilen\, aber musikalisch ist das Wiener Trio unverwechselbar.
 \r\n\r\n„Unsere Musik ist ein bisschen\, wie wenn man im Eissalon eine K
 ugel von allem bestellt und dann wild durchmischt“\, erklÃ¤rt Martin Mel
 zer. Von Modern Jazz Ã¼ber Funk und Soul bis hin zu Klassik ist von alle
 m etwas dabei. Das Trio experimentiert mit Sounds und Schemata. Mit kind
 licher Freude werden Geschichten erzÃ¤hlt\, Narrative aufgebaut\, KlÃ¤ng
 e skizziert – und dann wieder zerbrochen. Dabei bewegen sie sich spieler
 isch zwischen Ruhe und Rausch\, Sprunghaftigkeit und meditativem Minimal
 ismus\, schnellem Koffeinflash und langsamen Kaffeegenuss.\r\n\r\nBesetz
 ung:\r\nFelix Biller – Keys\r\nMartin Melzer – Bass\r\nChristoph Karas –
  Drums\r\n\r\n  (Pressetext)\r\n\r\n\r\nEINE KOOPERATIONSVERANSTALTUNG M
 IT MUSIK AKTUELL\r\n____________________________________________________
 _______________________________\r\n\r\nEinlass: 18:30\r\nBeginn: 19:30\r
 \n\r\nKarten:\r\n\r\n    VVK oeticket: Karten online...demnÃ¤chst | Tel.
 : 0196096\r\n    VVK EVENTJET: Karten online\r\n    Karten Vorverkauf: €
  20.-\r\n    Karten Abendkassa: € 25.-\r\n\r\n\r\nErmÃ¤ÃŸigungen:\r\n\r\
 n    SchÃ¼ler/Studenten/1424Jugend:karte NÃ– (Ausweis) Ticketpreis € 10.
 -\r\n    Ã–1-Club: 10% ErmÃ¤ÃŸigung pro Ticket (Club-Ausweis)\r\n    AK 
 NÃ–: 20% ErmÃ¤ÃŸigung pro Ticket (Mitgleidsausweis)\r\n\r\n\r\nFreie Pla
 tzwahl!\r\nDas bedeutet\, dass Sie mit Ihrem Ticket entsprechend den Ã¶r
 tlichen Gegebenheiten Ihren Platz frei auswÃ¤hlen kÃ¶nnen.\r\nEs kann si
 ch dabei um SitzplÃ¤tze\, StehplÃ¤tze oder eine Teilbestuhlung ohne Sitz
 platzanspruch handeln. 
 
LOCATION:Kulturverein "Die BÃ¼hne"
URL:https://www.die-buehne-purkersdorf.at/index.php?id=37
SUMMARY:PRIM - Rhythmische Klangwelten
END:VEVENT
END:VCALENDAR
