BEGIN:VCALENDAR
VERSION:2.0
PRODID:-//Purkersdorf Online//NONSGML V1.0//DE
BEGIN:VEVENT
UID:14911@puon.at
DTSTAMP:20260422T025251
DTSTART:20230916T193000
DTEND:20230916T203000
LAST-MODIFIED:20230728T120443
DESCRIPTION:Foto Â© Markus_Van_der_Man\r\n\r\n\r\nNeues Programm „Bussi 
 Bussi“\r\n\r\nEin Bussi ist was Feines. Zwei Bussis sind manchmal eines 
 zu viel.\r\n(Bussi links\, Bussi rechts! *Umdreh* „Wer war das?“)\r\nDoc
 h was ist eine Bussi Bussi – Gesellschaft ohne Bussis?\r\n\r\nIst ein Bu
 ssi das Gegenteil von einer Kopfnuss und warum gibt es so viele Arten da
 von: aufs Bauchi\, aufs Auge\, auf die Wange\, aus der Ferne\, auf den M
 und\, fĂĽr zwischendurch …!?\r\n\r\nWie geht NĂ¤he in Zeiten von Distanc
 ing und wer ist gefĂ¤hrlicher: BraunbĂ¤r oder Bussi BĂ¤r?  (Pressetext) 
 ________________________________________________________________________
 ___________\r\nEinlass: 18:30\r\nBeginn: 19:30\r\n\r\nKarten:\r\n\r\n   
  VVK oeticket: Karten online | Tel.: 0196096\r\n    VVK EVENTJET: Karten
  online\r\n    Karten Vorverkauf: € 26.-\r\n    Karten Abendkassa: € 30.
 -\r\n\r\n\r\nErmĂ¤Ăźigungen:\r\n\r\n    SchĂĽler/Studenten/1424Jugend:ka
 rte NĂ– (Ausweis) Ticketpreis € 10.-\r\n    Ă–1-Club: 10% ErmĂ¤Ăźigung p
 ro Ticket (Club-Ausweis)\r\n    AK NĂ–: 20% ErmĂ¤Ăźigung pro Ticket (Mit
 gleidsausweis)\r\n\r\n\r\nFreie Platzwahl!\r\nDas bedeutet\, dass Sie mi
 t Ihrem Ticket entsprechend den Ă¶rtlichen Gegebenheiten Ihren Platz fre
 i auswĂ¤hlen kĂ¶nnen.\r\nEs kann sich dabei um SitzplĂ¤tze\, StehplĂ¤tze
  oder eine Teilbestuhlung ohne Sitzplatzanspruch handeln.
 
LOCATION:Kulturverein "Die BĂĽhne"
URL:https://www.die-buehne-purkersdorf.at/index.php?id=37
SUMMARY:Nadja Maleh - "Bussi Bussi"
END:VEVENT
END:VCALENDAR
