BEGIN:VCALENDAR
VERSION:2.0
PRODID:-//Purkersdorf Online//NONSGML V1.0//DE
BEGIN:VEVENT
UID:14910@puon.at
DTSTAMP:20260422T151934
DTSTART:20230909T193000
DTEND:20230909T203000
LAST-MODIFIED:20230728T120426
DESCRIPTION:Foto zVg\r\n\r\nNeues Album. „Ollas Paletti“\r\n\r\nDas Ding
  atmet\, pumpt\, ist direkt und kommt mit ganz viel Mojo daher.\r\n\r\nM
 ein Anspruch war es\, ein kommerzielles Album voller Spielfreude\, Witz 
 und Kante aufzunehmen.\r\n\r\nDie markanteste Neuerung an meinem Sound s
 ind die zusĂ¤tzlichen Stimmen. Ich bin froh\, mit Tini Kainrath und Alex
  Horstmann zwei der besten ihrer Zunft an Bord zu haben.\r\n\r\nEin weit
 eres neues Element im Schneider-Sound ist der Schlagzeuger Alex Deutsch.
  Er drĂĽckt den Liedern einen gehĂ¶rigen Stempel auf. (Pressetext)\r\n\r
 \nBesetzung:\r\nNorbert Schneider – Gesang\, Gitarre\r\nTini Kainrath – 
 Gesang\r\nAlexander Horstmann – Gesang\r\nMax Tschida – Keys\, Akkordeon
 \r\nGeorg Buxhofer – Kontrabass\, Elektrobass\r\nAlex Deutsch – Schlagze
 ug\, CajĂłn\r\nGeorg Schrattenholzer – Posaune  ________________________
 ________________________________________________________________________
 _____\r\n\r\nEinlass: 18:30 Uhr\r\nBeginn: 19:30 Uhr\r\n\r\nKarten:\r\n\
 r\n    VVK oeticket: Karten online | Tel.: 0196096\r\n    VVK EVENTJET: 
 Karten hier bestellen\r\n    Karten Vorverkauf: € 35.-\r\n    Karten Abe
 ndkassa: € 40.-\r\n\r\n\r\nErmĂ¤Ăźigungen:\r\n\r\n    SchĂĽler/Studenten
 /1424Jugend:karte NĂ– (Ausweis) Ticketpreis € 10.-\r\n    Ă–1-Club: 10% 
 ErmĂ¤Ăźigung pro Ticket (Club-Ausweis)\r\n    AK NĂ–/Ă–GB: 20% ErmĂ¤Ăźig
 ung pro Ticket (AK-Servicekarte/Ă–GB-Mitgliedskarte)\r\n\r\n \r\nFreie P
 latzwahl!\r\nDas bedeutet\, dass Sie mit Ihrem Ticket entsprechend den Ă
 ¶rtlichen Gegebenheiten Ihren Platz frei auswĂ¤hlen kĂ¶nnen.\r\nEs kann 
 sich dabei um SitzplĂ¤tze\, StehplĂ¤tze oder eine Teilbestuhlung ohne Si
 tzplatzanspruch handeln.
 
LOCATION:Kulturverein "Die BĂĽhne"
URL:https://www.die-buehne-purkersdorf.at/index.php?id=37
SUMMARY:NORBERT SCHNEIDER & Band
END:VEVENT
END:VCALENDAR
