BEGIN:VCALENDAR
VERSION:2.0
PRODID:-//Purkersdorf Online//NONSGML V1.0//DE
BEGIN:VEVENT
UID:RFCALITEM809ec94f-a568-b515-bc84-ad79de7dc61c20230818T173000Z
DTSTAMP:20260425T203307
DTSTART:20230818T193000
DTEND:20230818T220000
LAST-MODIFIED:00000000T000000
DESCRIPTION:Kultursommer Purkersdorf.<br>EINTRITT FREI!Jake und Elwood B
 lues sind wieder im Auftrag des Herrn unterwegs.Begleitet von der legend
 ären Musik der Blues Brothers präsentieren Richard Redl und Roberto Raze
 nberger eine Show\, wie sie schon lange nicht mehr da gewesen ist.Mit ei
 ner elfköpfigen-Band versetzen die beiden Brüder aus Chicago/ Illinois v
 ersetzen das Publikum zurück in die 80er mit Blues\, Funk und Soul.<br>M
 it dabei Hits wie â€žSoul Manâ€œ\, â€žGimme Some Lovinâ€œ\, â€žEverybody
  Needs Somebody to Loveâ€œ u.v.m..Geniale Tanzeinlagen mit Animation und
  Unterhaltung sind bei der Blues Bros Corporation genauso an der Tagesor
 dnung wie coole Sprüche\, Live-Gesang und natürlich die Blues Harp.Tauch
 en Sie ein in eine vergangene und einzigartige Zeitepoche!Besetzung: Jak
 e Blues: Richard Redl\, Elwood Blues: Robert Razenberger\, Stevie Matyus
  (drums)\, Patrick Braun (bass)\, Manfred Wechselauer (guitar)\, Dave Ca
 mille (keyboard)\, Pepe Schütz (saxophone)\, Dominik Fuss (trumpet)\, An
 dreas Grünauer (trombone)\, Elisabeth Hell & Daniela Sandhofer (backing 
 vocals)Ein herzliches Dankeschön gilt unseren Sponsoren für die Events d
 es Kultursommer Purkersdorf:Â­Wiener Städtische Vienna Insurance Group\,
  AK NÖ\, Raiffeisenbank Wienerwald und Land NÖ. Ohne die Unterstützung v
 on Partnern wäre dieses Â­Kulturangebot bei freiem Eintritt nicht zu ver
 wirklichen.
 
LOCATION:"Die Bühne" Purkersdorf, Wiener Straße 12 3002 Purkersdorf
SUMMARY:The Blues Brothers Corporation
END:VEVENT
END:VCALENDAR
