BEGIN:VCALENDAR
VERSION:2.0
PRODID:-//Purkersdorf Online//NONSGML V1.0//DE
BEGIN:VEVENT
UID:14816@puon.at
DTSTAMP:20260425T215807
DTSTART;VALUE=DATE:20230817
DTEND;VALUE=DATE:20230818
LAST-MODIFIED:20221206T214517
LOCATION:Purkersdorf
SUMMARY:Restmüll 770-1100l
END:VEVENT
END:VCALENDAR
