BEGIN:VCALENDAR
VERSION:2.0
PRODID:-//Purkersdorf Online//NONSGML V1.0//DE
BEGIN:VEVENT
UID:14746@puon.at
DTSTAMP:20260421T232229
DTSTART;VALUE=DATE:20230918
DTEND;VALUE=DATE:20230919
LAST-MODIFIED:20221121T232227
LOCATION:Purkersdorf
SUMMARY:Gelber Sack
END:VEVENT
END:VCALENDAR
